BEGIN:VCALENDAR
VERSION:2.0
PRODID:-//A Taste Of Italy - ECPv6.11.0.1//NONSGML v1.0//EN
CALSCALE:GREGORIAN
METHOD:PUBLISH
X-WR-CALNAME:A Taste Of Italy
X-ORIGINAL-URL:https://atasteofitalygriffith.com.au
X-WR-CALDESC:Events for A Taste Of Italy
REFRESH-INTERVAL;VALUE=DURATION:PT1H
X-Robots-Tag:noindex
X-PUBLISHED-TTL:PT1H
BEGIN:VTIMEZONE
TZID:Australia/Sydney
BEGIN:STANDARD
TZOFFSETFROM:+1100
TZOFFSETTO:+1000
TZNAME:AEST
DTSTART:20260404T160000
END:STANDARD
BEGIN:DAYLIGHT
TZOFFSETFROM:+1000
TZOFFSETTO:+1100
TZNAME:AEDT
DTSTART:20261003T160000
END:DAYLIGHT
END:VTIMEZONE
BEGIN:VEVENT
DTSTART;TZID=Australia/Sydney:20260826T100000
DTEND;TZID=Australia/Sydney:20260826T160000
DTSTAMP:20260424T235730
CREATED:20260413T015132Z
LAST-MODIFIED:20260413T015132Z
UID:10000098-1787738400-1787760000@atasteofitalygriffith.com.au
SUMMARY:BOCCE AT THE MUSEUM
DESCRIPTION:Experience a classic Italian pastime in a unique setting at Bocce at the Museum! As part of the A Taste of Italy Griffith celebrations\, visitors are invited to enjoy a friendly game of bocce on the museum grounds.
URL:https://atasteofitalygriffith.com.au/event/bocce-at-the-museum/
LOCATION:Pioneer Park Museum\, Remembrance Drive\, Griffith\, NSW\, 2680\, Australia
ATTACH;FMTTYPE=image/jpeg:https://atasteofitalygriffith.com.au/wp-content/uploads/2026/04/Operator-Attraction-Pioneer-Park-Museum-Binya-Hometsead-Brett-Naseby-2017-2-scaled.jpg
END:VEVENT
BEGIN:VEVENT
DTSTART;TZID=Australia/Sydney:20260826T173000
DTEND;TZID=Australia/Sydney:20260826T203000
DTSTAMP:20260424T235730
CREATED:20260413T015255Z
LAST-MODIFIED:20260413T015255Z
UID:10000099-1787765400-1787776200@atasteofitalygriffith.com.au
SUMMARY:PIZZA NIGHT AT THE MUSEUM
DESCRIPTION:Spend your Wednesday evening enjoying Pizza Night at the Museum \nRelax in the beautiful surroundings of the museum while enjoying freshly made pizzas\, cooked and served in a vibrant\, family-friendly atmosphere. Bring your friends and family along to share great food\, soak up the atmosphere\, and celebrate Italian culture in Griffith.
URL:https://atasteofitalygriffith.com.au/event/pizza-night-at-the-museum/
LOCATION:Pioneer Park Museum\, Remembrance Drive\, Griffith\, NSW\, 2680\, Australia
ATTACH;FMTTYPE=image/jpeg:https://atasteofitalygriffith.com.au/wp-content/uploads/2026/04/Operator-Attraction-Pioneer-Park-Museum-Binya-Hometsead-Brett-Naseby-2017-2-scaled.jpg
END:VEVENT
END:VCALENDAR