BEGIN:VCALENDAR
VERSION:2.0
PRODID:-//A Taste Of Italy - ECPv6.11.0.1//NONSGML v1.0//EN
CALSCALE:GREGORIAN
METHOD:PUBLISH
X-ORIGINAL-URL:https://atasteofitalygriffith.com.au
X-WR-CALDESC:Events for A Taste Of Italy
REFRESH-INTERVAL;VALUE=DURATION:PT1H
X-Robots-Tag:noindex
X-PUBLISHED-TTL:PT1H
BEGIN:VTIMEZONE
TZID:Australia/Sydney
BEGIN:STANDARD
TZOFFSETFROM:+1100
TZOFFSETTO:+1000
TZNAME:AEST
DTSTART:20260404T160000
END:STANDARD
BEGIN:DAYLIGHT
TZOFFSETFROM:+1000
TZOFFSETTO:+1100
TZNAME:AEDT
DTSTART:20261003T160000
END:DAYLIGHT
END:VTIMEZONE
BEGIN:VEVENT
DTSTART;TZID=Australia/Sydney:20260827T150000
DTEND;TZID=Australia/Sydney:20260827T190000
DTSTAMP:20260425T015212
CREATED:20260413T015735Z
LAST-MODIFIED:20260413T015735Z
UID:10000100-1787842800-1787857200@atasteofitalygriffith.com.au
SUMMARY:A TASTE OF ITALY GRIFFITH - MAKERS IN THE PIAZZA
DESCRIPTION:Makers in the Piazza! \nJoin us for an afternoon filled with authentic Italian flavours\, local makers\, and community spirit.\nBringing together food\, culture\, and community in the heart of Griffith!
URL:https://atasteofitalygriffith.com.au/event/a-taste-of-italy-griffith-makers-in-the-piazza/
LOCATION:Kooyoo Street Mall\, Kooyoo Street\, Griffith\, NSW\, 2680\, Australia
ATTACH;FMTTYPE=image/jpeg:https://atasteofitalygriffith.com.au/wp-content/uploads/2026/04/Taste-of-Italy-2025-040-scaled.jpg
END:VEVENT
END:VCALENDAR