BEGIN:VCALENDAR
VERSION:2.0
PRODID:-//A Taste Of Italy - ECPv6.11.0.1//NONSGML v1.0//EN
CALSCALE:GREGORIAN
METHOD:PUBLISH
X-ORIGINAL-URL:https://atasteofitalygriffith.com.au
X-WR-CALDESC:Events for A Taste Of Italy
REFRESH-INTERVAL;VALUE=DURATION:PT1H
X-Robots-Tag:noindex
X-PUBLISHED-TTL:PT1H
BEGIN:VTIMEZONE
TZID:Australia/Sydney
BEGIN:STANDARD
TZOFFSETFROM:+1100
TZOFFSETTO:+1000
TZNAME:AEST
DTSTART:20260404T160000
END:STANDARD
BEGIN:DAYLIGHT
TZOFFSETFROM:+1000
TZOFFSETTO:+1100
TZNAME:AEDT
DTSTART:20261003T160000
END:DAYLIGHT
END:VTIMEZONE
BEGIN:VEVENT
DTSTART;TZID=Australia/Sydney:20260829T090000
DTEND;TZID=Australia/Sydney:20260829T140000
DTSTAMP:20260425T015104
CREATED:20260413T013631Z
LAST-MODIFIED:20260413T013631Z
UID:10000097-1787994000-1788012000@atasteofitalygriffith.com.au
SUMMARY:A TASTE OF ITALY GRIFFITH - SATURDAY SIDEWALK SALE
DESCRIPTION:Join at the Sidewalk Sale and shop ‘til you drop! Wander Banna Avenue and pick up a bargain at the local retail stalls on the sidewalk.
URL:https://atasteofitalygriffith.com.au/event/a-taste-of-italy-griffith-saturday-sidewalk-sale-2/
LOCATION:Banna Avenue\, Banna Avenue\, Griffith\, NSW\, 2680\, Australia
ATTACH;FMTTYPE=image/jpeg:https://atasteofitalygriffith.com.au/wp-content/uploads/2026/04/Griffith-Easter-Party-2024-Side-Walk-Sale-Ginette-Guidolin-155-scaled.jpg
END:VEVENT
BEGIN:VEVENT
DTSTART;TZID=Australia/Sydney:20260829T110000
DTEND;TZID=Australia/Sydney:20260829T153000
DTSTAMP:20260425T015104
CREATED:20250305T055831Z
LAST-MODIFIED:20260413T014218Z
UID:10000074-1788001200-1788017400@atasteofitalygriffith.com.au
SUMMARY:ITALIAN GASTRONOMY ‘VINO & SALSICCIA FESTA AT CALABRIA’
DESCRIPTION:Love Salami? Love Wine? Well start your Italian weekend at Calabria Family Wines where you can enjoy the day sipping on vino\, sampling authentic Salami & listening to live Italian-inspired tunes. \nAdults $20pp | U18 Free | 11.00am – 3.30pm \nBookings are essential. \nWe kindly ask that no BYO food or alcohol are brought onto the grounds. \nJoin the waitlist here!!!
URL:https://atasteofitalygriffith.com.au/event/italian-gastronomy-vino-salsiccia-festa-at-calabria-2/
LOCATION:Calabria Family Wines\, 1283 Brayne Rd\, Griffith\, NSW\, 2680\, Australia
ATTACH;FMTTYPE=image/jpeg:https://atasteofitalygriffith.com.au/wp-content/uploads/2025/03/Taste-of-Italy-2025-576-scaled.jpg
ORGANIZER;CN="Calabria Family Wines":MAILTO:ecadorin@calabriawines.com.au
END:VEVENT
BEGIN:VEVENT
DTSTART;TZID=Australia/Sydney:20260829T150000
DTEND;TZID=Australia/Sydney:20260829T163000
DTSTAMP:20260425T015104
CREATED:20260413T040942Z
LAST-MODIFIED:20260413T040942Z
UID:10000101-1788015600-1788021000@atasteofitalygriffith.com.au
SUMMARY:BONEGILLA THE MIGRANTS JOURNEY
DESCRIPTION:After selling out venues across Australia\, Bonegilla – The Migrant’s Journey returns to share the powerful true stories of post-war migrants who passed through the Bonegilla Migrant Camp. \nThis moving multimedia performance combines firsthand interviews\, original photographs and archival videos projected across multiple screens\, accompanied by a live violin and grand piano soundtrack. \nFar from a dry history lesson\, the show captures the humour\, heartbreak and hope of those who left everything behind to start anew in Australia. Their stories reveal the challenges of displacement\, culture shock and resilience — and celebrate the courage and spirit that helped shape modern Australia. \nYou’ll laugh\, you’ll cry\, and you’ll leave inspired by these extraordinary pioneers and their unforgettable journey.
URL:https://atasteofitalygriffith.com.au/event/bonegilla-the-migrants-journey/
LOCATION:Griffith Regional Theatre\, 1 Neville Place\, Griffith\, NSW\, 2680\, Australia
ATTACH;FMTTYPE=image/png:https://atasteofitalygriffith.com.au/wp-content/uploads/2026/04/0d5867c5-8f26-4f44-ab5d-d9817c67a212.png
END:VEVENT
END:VCALENDAR