BEGIN:VCALENDAR
VERSION:2.0
PRODID:-//A Taste Of Italy - ECPv6.11.0.1//NONSGML v1.0//EN
CALSCALE:GREGORIAN
METHOD:PUBLISH
X-WR-CALNAME:A Taste Of Italy
X-ORIGINAL-URL:https://atasteofitalygriffith.com.au
X-WR-CALDESC:Events for A Taste Of Italy
REFRESH-INTERVAL;VALUE=DURATION:PT1H
X-Robots-Tag:noindex
X-PUBLISHED-TTL:PT1H
BEGIN:VTIMEZONE
TZID:Australia/Sydney
BEGIN:STANDARD
TZOFFSETFROM:+1100
TZOFFSETTO:+1000
TZNAME:AEST
DTSTART:20260404T160000
END:STANDARD
BEGIN:DAYLIGHT
TZOFFSETFROM:+1000
TZOFFSETTO:+1100
TZNAME:AEDT
DTSTART:20261003T160000
END:DAYLIGHT
END:VTIMEZONE
BEGIN:VEVENT
DTSTART;TZID=Australia/Sydney:20260830T120000
DTEND;TZID=Australia/Sydney:20260830T160000
DTSTAMP:20260425T014756
CREATED:20250402T234039Z
LAST-MODIFIED:20260413T013838Z
UID:10000081-1788091200-1788105600@atasteofitalygriffith.com.au
SUMMARY:LA TAVOLA LUNGA
DESCRIPTION:Whilst Griffith celebrates “A Taste of Italy” every year\, sharing friendship\, good food and good wine is in the De Bortoli DNA. \nJoin us for our annual lunch event – La Tavola Lunga \n“La Tavola Lunga” – the long table – a place that brought Italian workers together to discuss business\, and life\, part of the De Bortoli family heritage ever since Vittorio put down roots in the Riverina early last century.\nVittorio was a man who loved to cook and to eat and he provided lunch every day for his family and farm workers around a long table.  \n A  warm\, hospitable piece of home! \nNOTE: There is transport on offer from town and back for the day – just add to your order when you book in! \nJoin us for an afternoon celebration of all things: Italian\, De Bortoli\, and Griffith!\nGood Food\, Good Wine\, Good Friends! \nRight where it all started\, Bilbul Estate at 12 noon \nYour Ticket to entry includes a delicious lunch with award winning wines flowing all day. A special addition to the day will include a self-guided walk around Emeri’s Sensational Garden! \nIf you have any questions you can email us on bilbul_events@debortoli.com.au or call us on 02 6966 0111. \nBOOK HERE!!!
URL:https://atasteofitalygriffith.com.au/event/la-tavola-lunga-de-bortoli-wines/
LOCATION:De Bortoli Wines\, De Bortoli Rd\, Bilbul\, NSW\, 2680\, Australia
ATTACH;FMTTYPE=image/jpeg:https://atasteofitalygriffith.com.au/wp-content/uploads/2025/04/ATOIG24-La-Tavola-Lunga-40-1.jpg
END:VEVENT
END:VCALENDAR